View In:
ArcGIS JavaScript
ArcGIS Online Map Viewer
ArcGIS Earth
Service Description: Original_Town_Midlothian_A_270_tif
Name: Original_Town_Midlothian_A_270_tif
Description:
Single Fused Map Cache: false
Extent:
XMin: 2429587.34406619
YMin: 6856245.014612375
XMax: 2437114.0712837502
YMax: 6869532.008423584
Spatial Reference: 102738
(2276)
LatestVCSWkid(0)
Initial Extent:
XMin: 2429587.34406619
YMin: 6856245.014612375
XMax: 2437114.0712837502
YMax: 6869532.008423584
Spatial Reference: 102738
(2276)
LatestVCSWkid(0)
Full Extent:
XMin: 2429587.34406619
YMin: 6856245.014612375
XMax: 2437114.0712837502
YMax: 6869532.008423584
Spatial Reference: 102738
(2276)
LatestVCSWkid(0)
Pixel Size X: 3.427471410546525
Pixel Size Y: 3.2864194437815373
Band Count: 3
Pixel Type: U8
RasterFunction Infos: {"rasterFunctionInfos": [{
"name": "None",
"description": "",
"help": ""
}]}
Mensuration Capabilities: Basic
Inspection Capabilities:
Has Histograms: true
Has Colormap: false
Has Multi Dimensions : false
Rendering Rule:
Min Scale: 0
Max Scale: 0
Copyright Text:
Service Data Type: esriImageServiceDataTypeRGB
Min Values: 0, 0, 0
Max Values: 255, 255, 255
Mean Values: 235.51716914301, 235.51716914301, 235.51716914301
Standard Deviation Values: 61.180543779119, 61.180543779119, 61.180543779119
Object ID Field:
Fields:
None
Default Mosaic Method: Center
Allowed Mosaic Methods:
SortField:
SortValue: null
Mosaic Operator: First
Default Compression Quality: 75
Default Resampling Method: Bilinear
Max Record Count: null
Max Image Height: 4100
Max Image Width: 15000
Max Download Image Count: null
Max Mosaic Image Count: null
Allow Raster Function: true
Allow Copy: true
Allow Analysis: true
Allow Compute TiePoints: false
Supports Statistics: false
Supports Advanced Queries: false
Use StandardizedQueries: true
Raster Type Infos:
Name: Raster Dataset
Description: Supports all ArcGIS Raster Datasets
Help:
Has Raster Attribute Table: false
Edit Fields Info: null
Ownership Based AccessControl For Rasters: null
Child Resources:
Info
Histograms
Statistics
Key Properties
Legend
Raster Function Infos
Supported Operations:
Export Image
Identify
Measure
Compute Histograms
Compute Statistics Histograms
Get Samples
Compute Class Statistics
Query Boundary
Compute Pixel Location
Compute Angles
Validate
Project